BEGIN:VCALENDAR
VERSION:2.0
PRODID:-//AudioTheme 1.7.1
BEGIN:VEVENT
UID:http://www.eva-zoellner.de/?post_type=audiotheme_gig&#038;p=2253
URL:https://www.eva-zoellner.de/concerts/4fakultaet-hamburg/
DTSTART;TZID=GMT:20190914T190000
SUMMARY:4fakultät Hamburg
DESCRIPTION:4fakultät - Konzertreihe für stilübergreifende Improvisation
LOCATION:Künstlerhaus FAKTOR\, Hamburg\, 
END:VEVENT
END:VCALENDAR