BEGIN:VCALENDAR
VERSION:2.0
PRODID:-//AudioTheme 1.7.1
BEGIN:VEVENT
UID:http://eva-zoellner.de/?post_type=audiotheme_gig&#038;p=2199
URL:https://www.eva-zoellner.de/concerts/acht-bruecken-koeln/
DTSTART;TZID=GMT:20190430T160000
SUMMARY:Acht Brücken Köln
DESCRIPTION:Ensemble Musikfabrik: Gerhard Stäbler | HÖR·FLECKEN
LOCATION:Acht Brücken Festival\, Köln\, \, Germany
END:VEVENT
END:VCALENDAR