BEGIN:VCALENDAR
VERSION:2.0
PRODID:-//AudioTheme 1.7.1
BEGIN:VEVENT
UID:http://www.eva-zoellner.de/?post_type=audiotheme_gig&#038;p=2344
URL:https://www.eva-zoellner.de/concerts/achtbruecken/
DTSTART;VALUE=DATE:20200509
SUMMARY:ACHTBRÜCKEN
DESCRIPTION:CANCELLED Zöllner-Roche-Duo
LOCATION:ACHTBRÜCKEN Festival\, Köln\, 
END:VEVENT
END:VCALENDAR