BEGIN:VCALENDAR
VERSION:2.0
PRODID:-//AudioTheme 1.7.1
BEGIN:VEVENT
UID:http://eva-zoellner.de/nsite/?post_type=audiotheme_gig&#038;p=253
URL:https://www.eva-zoellner.de/concerts/akkordarbeit-2012-2014/
DTSTART;TZID=GMT:20150106T193000
SUMMARY:AkkordArbeit 2012-2014
LOCATION:unerhörte Musik\, Berlin\, \, Germany
END:VEVENT
END:VCALENDAR