BEGIN:VCALENDAR
VERSION:2.0
PRODID:-//AudioTheme 1.7.1
BEGIN:VEVENT
UID:https://www.eva-zoellner.de/?post_type=audiotheme_gig&#038;p=3709
URL:https://www.eva-zoellner.de/concerts/amsterdam-2/
DTSTART;VALUE=DATE:20231103
SUMMARY:Amsterdam
DESCRIPTION:Duo A&O
LOCATION:Orgelpark\, Amsterdam\, \, Netherlands
END:VEVENT
END:VCALENDAR