BEGIN:VCALENDAR
VERSION:2.0
PRODID:-//AudioTheme 1.7.1
BEGIN:VEVENT
UID:http://www.eva-zoellner.de/?post_type=audiotheme_gig&#038;p=2256
URL:https://www.eva-zoellner.de/concerts/amsterdam-nl/
DTSTART;TZID=GMT:20191025T111300
SUMMARY:Amsterdam, NL
DESCRIPTION:with Kerstin Petersen\, organ
LOCATION:Orgelpark\, Amsterdam\, \, Netherlands
END:VEVENT
END:VCALENDAR