BEGIN:VCALENDAR
VERSION:2.0
PRODID:-//AudioTheme 1.7.1
BEGIN:VEVENT
UID:http://eva-zoellner.de/?post_type=audiotheme_gig&#038;p=2055
URL:https://www.eva-zoellner.de/concerts/b-05-montabaur/
DTSTART;TZID=GMT:20181012T173000
SUMMARY:b-05 Montabaur
DESCRIPTION:CD release Kohmann/Zöllner/Weiß
LOCATION:b-05 Kunst und Kulturzentrum\, Montabaur\, 
END:VEVENT
END:VCALENDAR