BEGIN:VCALENDAR
VERSION:2.0
PRODID:-//AudioTheme 1.7.1
BEGIN:VEVENT
UID:http://eva-zoellner.de/?post_type=audiotheme_gig&#038;p=1657
URL:https://www.eva-zoellner.de/concerts/bad-emser-neue-klaenge/
DTSTART;TZID=GMT:20171122T183000
SUMMARY:Bad Emser Neue Klänge
DESCRIPTION:solo
LOCATION:Schloss Balmoral\, Bad Ems\, \, Deutschland
END:VEVENT
END:VCALENDAR