BEGIN:VCALENDAR
VERSION:2.0
PRODID:-//AudioTheme 1.7.1
BEGIN:VEVENT
UID:http://eva-zoellner.de/?post_type=audiotheme_gig&#038;p=2093
URL:https://www.eva-zoellner.de/concerts/barcelona/
DTSTART;TZID=GMT:20190505T150000
SUMMARY:Barcelona
DESCRIPTION:Zöllner-Roche-Duo
LOCATION:Mixtur Festival\, Barcelona\, 
END:VEVENT
END:VCALENDAR