BEGIN:VCALENDAR
VERSION:2.0
PRODID:-//AudioTheme 1.7.1
BEGIN:VEVENT
UID:http://www.eva-zoellner.de/?post_type=audiotheme_gig&#038;p=2359
URL:https://www.eva-zoellner.de/concerts/beast-feast-2020/
DTSTART;VALUE=DATE:20200501
SUMMARY:BEAST FEaST 2020
DESCRIPTION:CANCELLED Zöllner-Roche-Duo
LOCATION:BEAST FEaST\, Birmingham\, 
END:VEVENT
END:VCALENDAR