BEGIN:VCALENDAR
VERSION:2.0
PRODID:-//AudioTheme 1.7.1
BEGIN:VEVENT
UID:http://eva-zoellner.de/?post_type=audiotheme_gig&#038;p=2129
URL:https://www.eva-zoellner.de/concerts/bendorf-sayn/
DTSTART;TZID=GMT:20190623T090000
SUMMARY:Bendorf-Sayn
DESCRIPTION:Soloprojekt - Heimat
LOCATION:Direktorenhaus Sayner Hütte\, Bendorf Sayn\, \, Germany
END:VEVENT
END:VCALENDAR