BEGIN:VCALENDAR
VERSION:2.0
PRODID:-//AudioTheme 1.7.1
BEGIN:VEVENT
UID:http://www.eva-zoellner.de/?post_type=audiotheme_gig&#038;p=3191
URL:https://www.eva-zoellner.de/concerts/berkeley-university/
DTSTART;TZID=GMT:20210507T060000
SUMMARY:Berkeley University, California
DESCRIPTION:Virtual Composition Workshop
LOCATION:Berkeley University\, Berkeley\, 
END:VEVENT
END:VCALENDAR