BEGIN:VCALENDAR
VERSION:2.0
PRODID:-//AudioTheme 1.7.1
BEGIN:VEVENT
UID:http://eva-zoellner.de/?post_type=audiotheme_gig&#038;p=2030
URL:https://www.eva-zoellner.de/concerts/berlin-4/
DTSTART;TZID=GMT:20181204T193000
SUMMARY:Berlin
DESCRIPTION:Sammelsurien mit Frauke Aulbert
LOCATION:unerhörte Musik\, Berlin\, \, Germany
END:VEVENT
END:VCALENDAR