BEGIN:VCALENDAR
VERSION:2.0
PRODID:-//AudioTheme 1.7.1
BEGIN:VEVENT
UID:https://www.eva-zoellner.de/?post_type=audiotheme_gig&#038;p=4116
URL:https://www.eva-zoellner.de/concerts/berlin-7/
DTSTART;TZID=GMT:20251007T180000
SUMMARY:Berlin
DESCRIPTION:Zöllner Roche Duo
LOCATION:unerhörte Musik\, Berlin\, \, Germany
END:VEVENT
END:VCALENDAR