BEGIN:VCALENDAR
VERSION:2.0
PRODID:-//AudioTheme 1.7.1
BEGIN:VEVENT
UID:http://www.eva-zoellner.de/?post_type=audiotheme_gig&#038;p=3315
URL:https://www.eva-zoellner.de/concerts/biel-ch/
DTSTART;TZID=GMT:20211016T150000
SUMMARY:Biel, CH
DESCRIPTION:Windspiel: Netzspinnerei
LOCATION:la Voirie\, Biel\, CH\, 
END:VEVENT
END:VCALENDAR