BEGIN:VCALENDAR
VERSION:2.0
PRODID:-//AudioTheme 1.7.1
BEGIN:VEVENT
UID:http://www.eva-zoellner.de/?post_type=audiotheme_gig&#038;p=3459
URL:https://www.eva-zoellner.de/concerts/birnbach/
DTSTART;TZID=GMT:20220710T170000
SUMMARY:Birnbach
DESCRIPTION:A&O Ostwind Kultursommer RLP  mit Kerstin Petersen\, Orgel
LOCATION:Ev. Kirche Birnbach\, Birnbach/Ww.\, 
END:VEVENT
END:VCALENDAR