BEGIN:VCALENDAR
VERSION:2.0
PRODID:-//AudioTheme 1.7.1
BEGIN:VEVENT
UID:http://eva-zoellner.de/?post_type=audiotheme_gig&#038;p=1923
URL:https://www.eva-zoellner.de/concerts/bludenz-at-2/
DTSTART;TZID=GMT:20181118T000000
SUMMARY:Bludenz, AT
DESCRIPTION:mit Heather Roche\, Klarinette
LOCATION:Bludenzer Tage Zeitgemässer Musik\, Bludenz\, \, Austria
END:VEVENT
END:VCALENDAR