BEGIN:VCALENDAR
VERSION:2.0
PRODID:-//AudioTheme 1.7.1
BEGIN:VEVENT
UID:http://eva-zoellner.de/?post_type=audiotheme_gig&#038;p=1319
URL:https://www.eva-zoellner.de/concerts/bogota/
DTSTART;TZID=GMT:20161101T003000
SUMMARY:Bogotá
DESCRIPTION:solo & electronics
LOCATION:Universidad de Los Andes\, Bogotá\, \, Colombia
END:VEVENT
END:VCALENDAR