BEGIN:VCALENDAR
VERSION:2.0
PRODID:-//AudioTheme 1.7.1
BEGIN:VEVENT
UID:http://eva-zoellner.de/?post_type=audiotheme_gig&#038;p=2098
URL:https://www.eva-zoellner.de/concerts/bonn-12/
DTSTART;TZID=GMT:20190605T183000
SUMMARY:Bonn
DESCRIPTION:Solo & Rezitation
LOCATION:Wortklangraum\, Bonn\, 
END:VEVENT
END:VCALENDAR