BEGIN:VCALENDAR
VERSION:2.0
PRODID:-//AudioTheme 1.7.1
BEGIN:VEVENT
UID:http://www.eva-zoellner.de/?post_type=audiotheme_gig&#038;p=3348
URL:https://www.eva-zoellner.de/concerts/bonn-16/
DTSTART;TZID=GMT:20211205T190000
SUMMARY:Bonn
DESCRIPTION:Sofia Gubaidulina: De Profundis & Silenzio
LOCATION:In Situ Art Society\, Bonn\, 
END:VEVENT
END:VCALENDAR