BEGIN:VCALENDAR
VERSION:2.0
PRODID:-//AudioTheme 1.7.1
BEGIN:VEVENT
UID:http://www.eva-zoellner.de/?post_type=audiotheme_gig&#038;p=3428
URL:https://www.eva-zoellner.de/concerts/bonn-17/
DTSTART;TZID=GMT:20220312T190000
SUMMARY:Bonn
DESCRIPTION:Solidaitätskonzert Play for Ukraine
LOCATION:Dialograum Kreuzung an St. Helena\, Bonn\, 
END:VEVENT
END:VCALENDAR