BEGIN:VCALENDAR
VERSION:2.0
PRODID:-//AudioTheme 1.7.1
BEGIN:VEVENT
UID:http://eva-zoellner.de/?post_type=audiotheme_gig&#038;p=2049
URL:https://www.eva-zoellner.de/concerts/bowling-green-us/
DTSTART;VALUE=DATE:20190306
SUMMARY:Bowling Green, US
DESCRIPTION:collect/project
LOCATION:Bowling Greens State University\, Bowling Green\, Ohio
END:VEVENT
END:VCALENDAR