BEGIN:VCALENDAR
VERSION:2.0
PRODID:-//AudioTheme 1.7.1
BEGIN:VEVENT
UID:http://www.eva-zoellner.de/?post_type=audiotheme_gig&#038;p=3236
URL:https://www.eva-zoellner.de/concerts/change/
DTSTART;TZID=GMT:20210704T133000
SUMMARY:Change!
DESCRIPTION:Trio Kohmann/Zöllner/Weiß
LOCATION:Galerie Emmanuel Walderdorff\, Molsberg\, 
END:VEVENT
END:VCALENDAR