BEGIN:VCALENDAR
VERSION:2.0
PRODID:-//AudioTheme 1.7.1
BEGIN:VEVENT
UID:http://www.eva-zoellner.de/?post_type=audiotheme_gig&#038;p=2542
URL:https://www.eva-zoellner.de/concerts/chemnitz-2/
DTSTART;TZID=GMT:20210710T180000
SUMMARY:Chemnitz
DESCRIPTION:Sächsischer Musikbund: Windspiel - Duo für Neue Musik
LOCATION:Morgner Archiv\, Chemnitz\, 
END:VEVENT
END:VCALENDAR