BEGIN:VCALENDAR
VERSION:2.0
PRODID:-//AudioTheme 1.7.1
BEGIN:VEVENT
UID:http://eva-zoellner.de/?post_type=audiotheme_gig&#038;p=2048
URL:https://www.eva-zoellner.de/concerts/chicago-us/
DTSTART;VALUE=DATE:20190301
SUMMARY:Chicago, US
DESCRIPTION:collect/project
LOCATION:Elastic Arts\, Chicago\, \, USA
END:VEVENT
END:VCALENDAR