BEGIN:VCALENDAR
VERSION:2.0
PRODID:-//AudioTheme 1.7.1
BEGIN:VEVENT
UID:http://eva-zoellner.de/?post_type=audiotheme_gig&#038;p=1289
URL:https://www.eva-zoellner.de/concerts/die-andere-3/
DTSTART;TZID=GMT:20160407T173000
SUMMARY:Die Andere
DESCRIPTION:Die Andere. Kammeroper von Sidney Corbett
LOCATION:Theater Magdeburg\, Magdeburg\, \, Germany
END:VEVENT
END:VCALENDAR