BEGIN:VCALENDAR
VERSION:2.0
PRODID:-//AudioTheme 1.7.1
BEGIN:VEVENT
UID:https://www.eva-zoellner.de/?post_type=audiotheme_gig&#038;p=3803
URL:https://www.eva-zoellner.de/concerts/dublin/
DTSTART;TZID=GMT:20240222T203000
SUMMARY:Dublin
DESCRIPTION:Zöllner-Roche-Duo
LOCATION:National Concert Hall\, Dublin\, \, Ireland
END:VEVENT
END:VCALENDAR