BEGIN:VCALENDAR
VERSION:2.0
PRODID:-//AudioTheme 1.7.1
BEGIN:VEVENT
UID:http://www.eva-zoellner.de/?post_type=audiotheme_gig&#038;p=2333
URL:https://www.eva-zoellner.de/concerts/edinburgh/
DTSTART;TZID=GMT:20200224T193000
SUMMARY:Edinburgh
DESCRIPTION:Zöllner-Roche-Duo
LOCATION:Reid School of Music Edinburgh\, Edinburgh\, 
END:VEVENT
END:VCALENDAR