BEGIN:VCALENDAR
VERSION:2.0
PRODID:-//AudioTheme 1.7.1
BEGIN:VEVENT
UID:https://www.eva-zoellner.de/?post_type=audiotheme_gig&#038;p=4046
URL:https://www.eva-zoellner.de/concerts/ehrenbreitstein/
DTSTART;TZID=GMT:20240621T180000
SUMMARY:Ehrenbreitstein
DESCRIPTION:Eva Zöllner solo
LOCATION:Ehrenbreitsteiner Kulturtage\, Koblenz\, \, Germany
END:VEVENT
END:VCALENDAR