BEGIN:VCALENDAR
VERSION:2.0
PRODID:-//AudioTheme 1.7.1
BEGIN:VEVENT
UID:https://www.eva-zoellner.de/?post_type=audiotheme_gig&#038;p=3980
URL:https://www.eva-zoellner.de/concerts/elbphilharmonie-3/
DTSTART;TZID=GMT:20240517T180000
SUMMARY:Elbphilharmonie
DESCRIPTION:NDR-Elbphilharmonie-Orchester: Sara Abazari
LOCATION:Elbphilharmonie\, Hamburg\, 
END:VEVENT
END:VCALENDAR