BEGIN:VCALENDAR
VERSION:2.0
PRODID:-//AudioTheme 1.7.1
BEGIN:VEVENT
UID:http://eva-zoellner.de/?post_type=audiotheme_gig&#038;p=1899
URL:https://www.eva-zoellner.de/concerts/eva-zoellner-stellt-vor/
DTSTART;TZID=GMT:20180530T220500
SUMMARY:Eva Zöllner stellt vor...
DESCRIPTION:Eva Zöllner stellt vor...  Carolin Naujocks im Gespräch mit der Akkordeonistin
LOCATION:Deutschlandfunk Kultur
END:VEVENT
END:VCALENDAR