BEGIN:VCALENDAR
VERSION:2.0
PRODID:-//AudioTheme 1.7.1
BEGIN:VEVENT
UID:http://eva-zoellner.de/?post_type=audiotheme_gig&#038;p=2203
URL:https://www.eva-zoellner.de/concerts/f-i-m-frankfurt/
DTSTART;TZID=GMT:20190522T180000
SUMMARY:F.I.M. Frankfurt
DESCRIPTION:Kohmann/Zöllner/Weiß
LOCATION:Forum Improvisierter Musik\, Frankfurt\, \, Germany
END:VEVENT
END:VCALENDAR