BEGIN:VCALENDAR
VERSION:2.0
PRODID:-//AudioTheme 1.7.1
BEGIN:VEVENT
UID:https://www.eva-zoellner.de/?post_type=audiotheme_gig&#038;p=4270
URL:https://www.eva-zoellner.de/concerts/female-sonic-feast/
DTSTART;TZID=GMT:20260613T160000
SUMMARY:female sonic feast
DESCRIPTION:mit Frauke Aulbert\, Stimme
LOCATION:female sonic feast\, Hamburg\, \, Germany
END:VEVENT
END:VCALENDAR