BEGIN:VCALENDAR
VERSION:2.0
PRODID:-//AudioTheme 1.7.1
BEGIN:VEVENT
UID:http://eva-zoellner.de/?post_type=audiotheme_gig&#038;p=2056
URL:https://www.eva-zoellner.de/concerts/frankfurt-14/
DTSTART;TZID=GMT:20181109T190000
SUMMARY:Frankfurt
DESCRIPTION:Dieter Schnebel
LOCATION:HR-Sendesaal\, Frankfurt\, \, Germany
END:VEVENT
END:VCALENDAR