BEGIN:VCALENDAR
VERSION:2.0
PRODID:-//AudioTheme 1.7.1
BEGIN:VEVENT
UID:http://www.eva-zoellner.de/?post_type=audiotheme_gig&#038;p=2304
URL:https://www.eva-zoellner.de/concerts/frankfurt-16/
DTSTART;TZID=GMT:20191116T170000
SUMMARY:Frankfurt
DESCRIPTION:HR-Sinfonieorchester: Exodus nach Hollywood
LOCATION:Alte Oper\, Frankfurt\, \, Germany
END:VEVENT
END:VCALENDAR