BEGIN:VCALENDAR
VERSION:2.0
PRODID:-//AudioTheme 1.7.1
BEGIN:VEVENT
UID:https://www.eva-zoellner.de/?post_type=audiotheme_gig&#038;p=4060
URL:https://www.eva-zoellner.de/concerts/freiburg/
DTSTART;VALUE=DATE:20250123
SUMMARY:Freiburg
DESCRIPTION:mit Acoustic Trio Kimmig-Studer-Zimmerlin
LOCATION:Elisabeth-Schneider-Stiftung\, Freiburg\, 
END:VEVENT
END:VCALENDAR