BEGIN:VCALENDAR
VERSION:2.0
PRODID:-//AudioTheme 1.7.1
BEGIN:VEVENT
UID:https://www.eva-zoellner.de/?post_type=audiotheme_gig&#038;p=3810
URL:https://www.eva-zoellner.de/concerts/frequenz/
DTSTART;TZID=GMT:20240317T190000
SUMMARY:Frequenz
DESCRIPTION:Zöllner-Roche-Duo
LOCATION:Frequenz Stages\, Kiel\, \, Germany
END:VEVENT
END:VCALENDAR