BEGIN:VCALENDAR
VERSION:2.0
PRODID:-//AudioTheme 1.7.1
BEGIN:VEVENT
UID:http://eva-zoellner.de/nsite/?post_type=audiotheme_gig&#038;p=143
URL:https://www.eva-zoellner.de/concerts/gala-konzert/
DTSTART;TZID=GMT:20150915T180000
SUMMARY:Gala-Konzert
LOCATION:Internationales Kammermusikfestival\, Nürnberg\, \, Germany
END:VEVENT
END:VCALENDAR