BEGIN:VCALENDAR
VERSION:2.0
PRODID:-//AudioTheme 1.7.1
BEGIN:VEVENT
UID:http://www.eva-zoellner.de/?post_type=audiotheme_gig&#038;p=2349
URL:https://www.eva-zoellner.de/concerts/gaudeamus-muziekweek/
DTSTART;VALUE=DATE:20210905
SUMMARY:Gaudeamus Muziekweek
DESCRIPTION:Zöllner-Roche-Duo
LOCATION:Gaudeamus Muziekweek\, Utrecht\, \, Netherlands
END:VEVENT
END:VCALENDAR