BEGIN:VCALENDAR
VERSION:2.0
PRODID:-//AudioTheme 1.7.1
BEGIN:VEVENT
UID:http://www.eva-zoellner.de/?post_type=audiotheme_gig&#038;p=2305
URL:https://www.eva-zoellner.de/concerts/gig-2305/
DTSTART;TZID=GMT:20191019T080000
SUMMARY:Montabaur
DESCRIPTION:Akkordeon-Aktionstag Neue Musik
LOCATION:Landesmusikgymnasium RLP\, Montabaur\, 
END:VEVENT
END:VCALENDAR