BEGIN:VCALENDAR
VERSION:2.0
PRODID:-//AudioTheme 1.7.1
BEGIN:VEVENT
UID:http://www.eva-zoellner.de/?post_type=audiotheme_gig&#038;p=2512
URL:https://www.eva-zoellner.de/concerts/gig-2512/
DTSTART;TZID=GMT:20210118T200500
SUMMARY:Deutschlandfunk Radio
DESCRIPTION:Musik-Panorama: Solo
LOCATION:Deutschlandfunk Radio
END:VEVENT
END:VCALENDAR