BEGIN:VCALENDAR
VERSION:2.0
PRODID:-//AudioTheme 1.7.1
BEGIN:VEVENT
UID:https://www.eva-zoellner.de/?post_type=audiotheme_gig&#038;p=3788
URL:https://www.eva-zoellner.de/concerts/gig-3788/
DTSTART;TZID=GMT:20231222T183000
SUMMARY:Kassel
DESCRIPTION:Carlo Ciceri: L´Ultimon Sogno
LOCATION:Staatstheater Kassel\, Kassel\, \, Germany
END:VEVENT
END:VCALENDAR