BEGIN:VCALENDAR
VERSION:2.0
PRODID:-//AudioTheme 1.7.1
BEGIN:VEVENT
UID:http://eva-zoellner.de/?post_type=audiotheme_gig&#038;p=2128
URL:https://www.eva-zoellner.de/concerts/grenzau/
DTSTART;TZID=GMT:20190620T160000
SUMMARY:Grenzau
DESCRIPTION:Heimat - Solotournee Auftaktveranstaltung
LOCATION:Keramik-Bahnhof Grenzau\, Grenzau\, \, Germany
END:VEVENT
END:VCALENDAR