BEGIN:VCALENDAR
VERSION:2.0
PRODID:-//AudioTheme 1.7.1
BEGIN:VEVENT
UID:http://eva-zoellner.de/?post_type=audiotheme_gig&#038;p=1810
URL:https://www.eva-zoellner.de/concerts/hamburg-16/
DTSTART;TZID=GMT:20180513T150000
SUMMARY:Hamburg
DESCRIPTION:Kadiša / Chernyshkov / Frank: Das Floß (UA)
LOCATION:Hamburgische Staatsoper\, Hamburg\, \, Hamburg
END:VEVENT
END:VCALENDAR