BEGIN:VCALENDAR
VERSION:2.0
PRODID:-//AudioTheme 1.7.1
BEGIN:VEVENT
UID:http://eva-zoellner.de/?post_type=audiotheme_gig&#038;p=1929
URL:https://www.eva-zoellner.de/concerts/hamburg-18/
DTSTART;TZID=GMT:20181124T190000
SUMMARY:Hamburg
DESCRIPTION:collect/project
LOCATION:Kraftwerk Bille\, Hamburg\, 
END:VEVENT
END:VCALENDAR