BEGIN:VCALENDAR
VERSION:2.0
PRODID:-//AudioTheme 1.7.1
BEGIN:VEVENT
UID:http://www.eva-zoellner.de/?post_type=audiotheme_gig&#038;p=2254
URL:https://www.eva-zoellner.de/concerts/hamburg-22/
DTSTART;VALUE=DATE:20191005
SUMMARY:Hamburg
DESCRIPTION:blubb - Musiktheater für Babys
LOCATION:Hamburgische Staatsoper\, Hamburg\, \, Hamburg
END:VEVENT
END:VCALENDAR