BEGIN:VCALENDAR
VERSION:2.0
PRODID:-//AudioTheme 1.7.1
BEGIN:VEVENT
UID:http://www.eva-zoellner.de/?post_type=audiotheme_gig&#038;p=2461
URL:https://www.eva-zoellner.de/concerts/hamburg-28/
DTSTART;TZID=GMT:20200929T140000
SUMMARY:Hamburg
DESCRIPTION:Kulturspritze - eine Dosis Musik gegen die Krise
LOCATION:Die Bedürfnisanstalt\, Hamburg\, \, Germany
END:VEVENT
END:VCALENDAR