BEGIN:VCALENDAR
VERSION:2.0
PRODID:-//AudioTheme 1.7.1
BEGIN:VEVENT
UID:http://eva-zoellner.de/?post_type=audiotheme_gig&#038;p=1250
URL:https://www.eva-zoellner.de/concerts/hamburg-3/
DTSTART;TZID=GMT:20160527T180000
SUMMARY:Hamburg
DESCRIPTION:ferne.nähe - Solo-Benefizkonzert  
LOCATION:Rathauspassage\, Hamburg\, \, Germany
END:VEVENT
END:VCALENDAR