BEGIN:VCALENDAR
VERSION:2.0
PRODID:-//AudioTheme 1.7.1
BEGIN:VEVENT
UID:http://www.eva-zoellner.de/?post_type=audiotheme_gig&#038;p=2530
URL:https://www.eva-zoellner.de/concerts/hamburg-33/
DTSTART;TZID=GMT:20210529T173000
SUMMARY:Hamburg
DESCRIPTION:Portrait-Konzert Ruta Paidere: NON PLACES 
LOCATION:Tonali-Saal\, Hamburg\, 
END:VEVENT
END:VCALENDAR