BEGIN:VCALENDAR
VERSION:2.0
PRODID:-//AudioTheme 1.7.1
BEGIN:VEVENT
UID:http://www.eva-zoellner.de/?post_type=audiotheme_gig&#038;p=2532
URL:https://www.eva-zoellner.de/concerts/hamburg-34/
DTSTART;TZID=GMT:20210530T170000
SUMMARY:Hamburg
DESCRIPTION:Duo A&O: »abgründe träume«  
LOCATION:St. Petri Kirche Hamburg Altona\, Hamburg\, 
END:VEVENT
END:VCALENDAR